Workbook
Name Category: '[1]DOER reference'!$M$1:$M$7
Name Category: 'DOER reference'!$M$1:$M$7
Name CY_2000: [2]source!#REF!
Name CY_2000: [2]source!#REF!
Name CY_2000: [2]source!#REF!
Name CY_2000: [2]source!#REF!
Name ECMs: '[1]Crit 3 - ECMs'!$C$6:$C$19
Name ECMs: 'Crit 3 - ECMs'!$C$6:$C$19
Name ECMstatus: '[1]Crit 3 - ECMs'!$C$22:$C$25
Name ECMstatus: 'Crit 3 - ECMs'!$C$22:$C$25
Name FY_2000: [2]source!#REF!
Name FY_2000: [2]source!#REF!
Name FY_2000: [2]source!#REF!
Name FY_2000: [2]source!#REF!
Name FY_2001: [2]source!#REF!
Name FY_2001: [2]source!#REF!
Name FY_2001: [2]source!#REF!
Name FY_2001: [2]source!#REF!
Name GalDiesel_MMBTU: [1]Reference!$A$10
Name GalDiesel_MMBTU: Reference!$A$10
Name GalFuelOil_MMBTU: [1]Reference!$A$7
Name GalFuelOil_MMBTU: Reference!$A$7
Name GalGasoline_MMBTU: [1]Reference!$A$9
Name GalGasoline_MMBTU: Reference!$A$9
Name GalPropane_MMBTU: [1]Reference!$A$8
Name GalPropane_MMBTU: Reference!$A$8
Name kwh_MMBTU: [1]Reference!$A$5
Name kwh_MMBTU: Reference!$A$5
Name ListDriveSystem: '[1]DOER reference'!$H$1:$H$4
Name ListDriveSystem: 'DOER reference'!$H$1:$H$4
Name ListExempt: '[1]DOER reference'!$J$1:$J$3
Name ListExempt: 'DOER reference'!$J$1:$J$3
Name ListOver8500: '[1]DOER reference'!$I$1:$I$4
Name ListOver8500: 'DOER reference'!$I$1:$I$4
Name ListStretch: 'DOER reference'!$K$1:$K$4
Name ListYN: '[1]DOER reference'!$F$1:$F$3
Name ListYN: 'DOER reference'!$F$1:$F$3
Name Procuring.Energy.Output: '[3]DOER reference'!$P$20:$P$24
Name Procuring.Energy.Output: 'DOER reference'!$P$20:$P$24
Name Procuring.Energy.Output.: 'DOER reference'!$P$20:$P$24
Name Project.Status: '[4]Drop Downs'!$J$2:$J$5
Name Resource.Type: '[4]Drop Downs'!$A$2:$A$11
Name ResourceType.: '[3]DOER reference'!$J$20:$J$29
Name ResourceType.: 'DOER reference'!$J$20:$J$29
Name Site.Type: '[4]Drop Downs'!$C$2:$C$10
Name SiteType.: '[3]DOER reference'!$L$20:$L$28
Name SiteType.: 'DOER reference'!$L$20:$L$28
Name Status: '[3]DOER reference'!$S$20:$S$23
Name Status: 'DOER reference'!$S$20:$S$23
Name therms_MMBTU: [1]Reference!$A$6
Name therms_MMBTU: Reference!$A$6
Name year: [2]source!$A$2:$A$29
Name Years: '[1]DOER reference'!$G$1:$G$19
Name Years: 'DOER reference'!$G$1:$G$12

Sheet ICF
A1: C3 - Uses MEI | B1: Please provide the date the information in MassEnergyInsight was last verified. By including a date, you are confirming that the information in MEI is accurate and complete (including all fuels and renewable energy) and that you wish to report your Green Community annual energy usage directly through MEI. REMEMBER to load all diesel, gasoline, heating oil and propane energy usage, as well as renewable energy usage that is NOT virtually net-metered, into MEI prior to providing a date that your data is complete. Also, confirm that Table 3 in MEI matches the data provided in Table 2.
A2: C3 - No MEI | B2: Please complete “Crit 3 - Tbl 3 Non-MEI User Only."
A4: RSD | B4: To include a percentage of the energy use of a Regional School District, please include that prorated usage as a separate entry in lines 17 and 21 of Table 2: Enter here the % you are using to prorate the energy usage (i.e. the percentage of the RSD funding that the municipality contributes). Contact your Regional Coordinator if you need assistance.
A6: EMS | B6: Your EMS annual report may be used to fulfill your Green Communities Annual Report Table 4 requirement. Please provide the date it was filed with DOER, or the date it will be filed if filing is anticipated in the next six months. Other efficiency measures undertaken independently of the performance contract should be reported using Table 4. All other portions of the Green Communities Annual Report must be completed.
A8: Bld Stck Chg | B8: Please describe any building stock changes that have occurred since your last Annual Report, or Designation Appliction (if first Annual Report). Include the year and whether any changes are a replacement, addition, removal or renovation. The adjustments to energy usage should be entered on Table 2, Lines 16 and 20. You may use the Building Stock Changes Calculator provided.

Sheet General Instructions 
C2: GREEN COMMUNITY ANNUAL REPORT
C3: Annual Report Tab Coloring Key
D4: Community input required
D5: Examples
D6: Guidance
C7: 1) In order for a municipality to maintain its Green Community Designation and be eligible for the next available Green Communities Competitive Grant, reports must be submitted no later than 5:00 PM November 6, 2020 for the reporting period July 1, 2019 – June 30, 2020
C9: Late reports WILL deem a community ineligible for the 2021 Competitive Grant.
C10: 2) Please be certain to address all areas in full. If certain requested information does not apply, then please note it as “N/A."
C11: 3) Please follow the instruction for reporting on each Criteria on the individual Criterion Excel Sheets.
C12: 4) If you have any questions on these reporting requirements, contact your DOER Green Communities Regional Coordinator (RC). The objective is to have a dialogue with Green Communities staff BEFORE the report is due so that minimal follow-up with the municipality is required after the due date.
C15: 5) Submit your community's full Excel file electronically as Excel via email with any other supporting files to Grant Administrator Jane Pfister - jane.pfister@mass.gov and your Regional Coordinator. This page must be signed, made into a PDF, and submitted as a separate file. Please submit only one Excel file for the annual report. DOER will not accept multiple spreadsheets
C16: 6) NOTE: In the case of any criteria violations( e.g. a vehicle purchased that does not meet the fuel efficient vehicle policy), the municipality will be asked to provide a corrective action plan. A first-time violation will be factored into consideration when DOER awards funds under the next available Green Communities funding opportunity. A second violation may prohibit the municipality from being eligible for any funds in the next available Green Communities funding opportunity.
C19: 8) Fields highlighted in yellow should be completed by Green Communities.
C21: 9) Review the "AR Compliance Checklist" tab and ensure that no items are missing. If any items cannot be provided please offer an explanation.
C22: =IF(SUM('AR Compliance Checklist'!$F$13:$F$66)>0,"Annual Report is not complete. Please review the AR Compliace Checklist.","Annual Report is complete.") -> Annual Report is complete.
C25: Date Designated: | D25: 42767 | E25: PLEASE NOTE: For a municipality designated December 2018, the reporting period is 18 months, Jan 1, 2019 - June 30 2020
C27: Date of Annual Report Submission
C29: Name of Preparer of Annual Report | D29: Fred Davis
C30: Title | D30: Chair, Medfield Energy Committee
C31: Municipality Name | D31: Town of Medfield
C33: I confirm that I have reviewed this report and verify all information is true.
C34: Signature of Chief Executive Officer | E34: The Chief Executive Officer is defined as the manager in any city having a manager and in any town having a city form of government, the mayor in any other city, and the board of selectmen in any other town unless some other officer or body is designated to perform the functions of a chief executive officer under the provisions of a local charter or laws having the force of a charter. Any signatures of designees will be considered an attestation that the signatory has been designated the designee by the municipality.

Sheet AR Compliance Checklist
C3: GREEN COMMUNITY ANNUAL REPORT
C4: Required Values
C6: All values that are required to be reported in this annual report are listed here. If an input appears in red, the "Note" column will explain which cell or cells are missing a value. Click the input item name to go to the item in the corresponding input tab. Prior to submitting this annual report please review this tab to make sure no required items are missing. If any item cannot be completed, please provide an explanation.
P7: <Select YES or NO>
P8: Yes
P9: No
C10: Inputs
C11: Overall Annual Report Status | D11: =IF(SUM($F$13:$F$66)>0,"Annual Report is not complete. Please complete missing items or provide explenations.","Annual Report is complete") -> Annual Report is complete
C12: Tab | D12: Item | E12: Status | G12: Note | H12: Explanation
C13: Crit 1 & 2 | D13: Type of as-of-right siting approval received | E13: =IF('Crit 1 & 2'!H4="","Missing","Complete") -> Complete | F13: =IF(AND(E13="Missing",H13=""),1,0) -> 0 | G13: =IF(E13="MISSING","Please select an option from the drop down in cell H4","")
D14: Type of expedited permitting approval received | E14: =IF('Crit 1 & 2'!H6="","Missing","Complete") -> Complete | F14: =IF(AND(E14="Missing",H14=""),1,0) -> 0 | G14: =IF(E14="MISSING","Please select an option from the drop down in cell H6","")
D15: 1) Have any significant changes been made to the zoning district(s) for which the community received Green Communities designation? | E15: =IF(OR('Crit 1 & 2'!L8="<Select YES or NO>",'Crit 1 & 2'!L8=""),"Missing","Complete") -> Complete | F15: =IF(AND(E15="Missing",H15=""),1,0) -> 0 | G15: =IF(E15="MISSING","Please select yes or no in cell L8","")
D16: 2) Have any significant changes been made to site plan, design, or other development review criteria or any permit review procedures that would impact the ability to permit qualifying clean energy uses as-of-right and in a timely manner? | E16: =IF(OR('Crit 1 & 2'!L10="<Select YES or NO>",'Crit 1 & 2'!L10=""),"Missing","Complete") -> Complete | F16: =IF(AND(E16="Missing",H16=""),1,0) -> 0 | G16: =IF(E16="MISSING","Please select yes or no in cell L10","")
D17: 3) Since your last Annual Report, or Designation Application (if first Annual Report) have any clean energy projects applied for approval under the zoning for which the community received Green Community Designation? Have any clean energy project been approved for construction? | E17: =IF(OR('Crit 1 & 2'!L16="<Select YES or NO>",'Crit 1 & 2'!L16=""),"Missing","Complete") -> Complete | F17: =IF(AND(E17="Missing",H17=""),1,0) -> 0 | G17: =IF(E17="MISSING","Please select yes or no in cell L16","")
D18: Table 1 | E18: =IF(AND('Crit 1 & 2'!L16="Yes",'Crit 1 & 2'!C23=""),"Missing","Complete") -> Complete | F18: =IF(AND(E18="Missing",H18=""),1,0) -> 0 | G18: =IF(E18="Missing","Please complete Table 1","")
C19: Crit 3 - Overview | D19: Is Regional School District (RSD) energy included? | E19: =IF('Crit 3 - Overview'!L15='AR Compliance Checklist'!$P$7,"Missing","Complete") -> Complete | F19: =IF(AND(E19="Missing",H19=""),1,0) -> 0 | G19: =IF(E19="MISSING","Please select yes or no in cell L15","")
D20: What is the name of the RSD? | E20: =IF(AND('Crit 3 - Overview'!L15="Yes",'Crit 3 - Overview'!L16=""),"Missing","Complete") -> Complete | F20: =IF(AND(E20="Missing",H20=""),1,0) -> 0 | G20: =IF(E20="MISSING","Please enter the RSD name in cell L16","")
D21: How is RSD energy included? | E21: =IF(AND('Crit 3 - Overview'!$L$15="Yes",'Crit 3 - Overview'!L17=""),"Missing","Complete") -> Complete | F21: =IF(AND(E21="Missing",H21=""),1,0) -> 0 | G21: =IF(E21="MISSING","Please select Percentage or Buildings in cell L17","")
D22: % or names of RSD building energy included | E22: =IF(AND('Crit 3 - Overview'!$L$15="Yes",'Crit 3 - Overview'!L18=""),"Missing","Complete") -> Complete | F22: =IF(AND(E22="Missing",H22=""),1,0) -> 0 | G22: =IF(E22="MISSING","Please enter a value in cell L18","")
D23: Does the community use MEI? | E23: =IF('Crit 3 - Overview'!L22='AR Compliance Checklist'!$P$7,"Missing","Complete") -> Complete | F23: =IF(AND(E23="Missing",H23=""),1,0) -> 0 | G23: =IF(E23="MISSING","Please select yes or no in cell L22","")
D24: Date MEI was last verified | E24: =IF(AND('Crit 3 - Overview'!L22="YES",'Crit 3 - Overview'!L23=""),"Missing","Complete") -> Complete | F24: =IF(AND(E24="Missing",H24=""),1,0) -> 0 | G24: =IF(E24="MISSING","Please enter a date in cell L23","")
D25: Does the community use an EMS Agreement? | E25: =IF('Crit 3 - Overview'!L29='AR Compliance Checklist'!$P$7,"Missing","Complete") -> Complete | F25: =IF(AND(E25="Missing",H25=""),1,0) -> 0 | G25: =IF(E25="MISSING","Please select yes or no in cell L29","")
D26: Date EMS filed with DOER | E26: =IF(AND('Crit 3 - Overview'!L29="Yes",'Crit 3 - Overview'!L31=""),"Missing","Complete") -> Complete | F26: =IF(AND(E26="Missing",H26=""),1,0) -> 0 | G26: =IF(E26="MISSING","Please enter a date in cell L31","")
D27: Does the community use conventionally net meter renewable energy produced within the community? | E27: =IF('Crit 3 - Overview'!L34='AR Compliance Checklist'!$P$7,"Missing","Complete") -> Complete | F27: =IF(AND(E27="Missing",H27=""),1,0) -> 0 | G27: =IF(E27="MISSING","Please select yes or no in cell L34","")
D28: Brief narrative of changes seen and anticipated. | E28: =IF('Crit 3 - Overview'!E43="","Missing","Complete") -> Complete | F28: =IF(AND(E28="Missing",H28=""),1,0) -> 0 | G28: =IF(E28="MISSING","Please provide a narrative for #6","")
D29: Has the community had any building stock changes since it's baseline year? | E29: =IF('Crit 3 - Overview'!L51='AR Compliance Checklist'!$P$7,"Missing","Complete") -> Complete | F29: =IF(AND(E29="Missing",H29=""),1,0) -> 0 | G29: =IF(E29="MISSING","Please select yes or no in cell L51","")
D30: Have any building stock changes occurred since your last Annual Report? | E30: =IF('Crit 3 - Overview'!L53='AR Compliance Checklist'!$P$7,"Missing","Complete") -> Complete | F30: =IF(AND(E30="Missing",H30=""),1,0) -> 0 | G30: =IF(E30="MISSING","Please select yes or no in cell L53","")
D31: Building stock change narrative | E31: =IF(AND('Crit 3 - Overview'!L53="Yes",'Crit 3 - Overview'!E56=""),"Missing","Complete") -> Complete | F31: =IF(AND(E31="Missing",H31=""),1,0) -> 0 | G31: =IF(E31="MISSING","Please provide a narrative for #7","")
C32: Building Stock Change Calculator | D32: Building stock change calculator complete for all building stock changes that have occurred since the baseline year | E32: =IF(AND('Crit 3 - Overview'!L51="Yes",'Building Stock Change Calculato'!D13="BUILDING ONE"),"Missing","Complete") -> Complete | F32: =IF(AND(E32="Missing",H32=""),1,0) -> 0 | G32: =IF(E32="MISSING","Please complete the building stock change calculator","")
C33: Crit 3 - Table 2 Progress | D33: Does the Community use Calendar Year (CY) or Fiscal Year (FY)? | E33: =IF('Crit 3 - Table 2 Progress'!H6="Select CY or FY","Missing","Complete") -> Complete | F33: =IF(AND(E33="Missing",H33=""),1,0) -> 0 | G33: =IF(E33="MISSING","Please select CY or FY in cell H6","")
D34: Baseline Year | E34: =IF('Crit 3 - Table 2 Progress'!D10="","Missing","Complete") -> Complete | F34: =IF(AND(E34="Missing",H34=""),1,0) -> 0 | G34: =IF(E34="MISSING","Please enter the baseline year in cell D10","")
D35: Building Stock Change Adjustment - Current year | E35: =IF(AND('Crit 3 - Overview'!L51="Yes",OR('Crit 3 - Table 2 Progress'!G17=0,'Crit 3 - Table 2 Progress'!G17="")),"Missing","Complete") -> Complete | F35: =IF(AND(E35="Missing",H35=""),1,0) -> 0 | G35: =IF(E35="MISSING","Please complete the building stock change calculator","")
D36: Regional School Prorated - Baseline year | E36: =IF(AND('Crit 3 - Overview'!L15="Yes",OR('Crit 3 - Table 2 Progress'!D18="",'Crit 3 - Table 2 Progress'!D18=0)),"Missing","Complete") -> Complete | F36: =IF(AND(E36="Missing",H36=""),1,0) -> 0 | G36: =IF(E36="MISSING","Please enter the prorated RSD energy consumption for the baseline year in cell D18","")
D37: Regional School Prorated - Current Year | E37: =IF(AND('Crit 3 - Overview'!L15="Yes",OR('Crit 3 - Table 2 Progress'!G18="",'Crit 3 - Table 2 Progress'!G18=0)),"Missing","Complete") -> Complete | F37: =IF(AND(E37="Missing",H37=""),1,0) -> 0 | G37: =IF(E37="MISSING","Please enter the prorated RSD energy consumption for the current year in cell G18","")
D38: TOTAL ENERGY CONSUMPTION (NO Weather Normalization) - Baseline year | E38: =IF(OR('Crit 3 - Table 2 Progress'!D19="",'Crit 3 - Table 2 Progress'!D19=0),"Missing","Complete") -> Complete | F38: =IF(AND(E38="Missing",H38=""),1,0) -> 0 | G38: =IF(E38="MISSING","Please enter all energy consumption for the baseline year in Table 2","")
D39: TOTAL ENERGY CONSUMPTION (NO Weather Normalization) - Current year | E39: =IF(OR('Crit 3 - Table 2 Progress'!G19="",'Crit 3 - Table 2 Progress'!G19=0),"Missing","Complete") -> Complete | F39: =IF(AND(E39="Missing",H39=""),1,0) -> 0 | G39: =IF(E39="MISSING","Please enter all energy consumption for the current year in Table 2","")
D40: Weather Normalized Consumption (without building stock adjustment) - Baseline year | E40: =IF(OR('Crit 3 - Table 2 Progress'!D20="",'Crit 3 - Table 2 Progress'!D20=0),"Missing","Complete") -> Complete | F40: =IF(AND(E40="Missing",H40=""),1,0) -> 0 | G40: =IF(E40="MISSING","Please enter the total weather normalized energy consumption for the baseline year in cell D20","")
D41: Weather Normalized Consumption (without building stock adjustment) - Current year | E41: =IF(OR('Crit 3 - Table 2 Progress'!G20="",'Crit 3 - Table 2 Progress'!G20=0),"Missing","Complete") -> Complete | F41: =IF(AND(E41="Missing",H41=""),1,0) -> 0 | G41: =IF(E41="MISSING","Please enter the total weather normalized energy consumption for the current year in cell G20","")
D42: Building Stock Change Adjustment (weather - normalized) - Current year | E42: =IF(AND('Crit 3 - Overview'!L51="Yes",OR('Crit 3 - Table 2 Progress'!G21=0,'Crit 3 - Table 2 Progress'!G21="")),"Missing","Complete") -> Complete | F42: =IF(AND(E42="Missing",H42=""),1,0) -> 0 | G42: =IF(E42="MISSING","Please complete the building stock change calculator","")
D43: Regional School Prorated (weather-normalized) - Baseline year | E43: =IF(AND('Crit 3 - Overview'!L15="Yes",OR('Crit 3 - Table 2 Progress'!D22="",'Crit 3 - Table 2 Progress'!D22=0)),"Missing","Complete") -> Complete | F43: =IF(AND(E43="Missing",H43=""),1,0) -> 0 | G43: =IF(E43="MISSING","Please enter the weather normalized prorated RSD energy consumption for the baseline year in cell D22","")
...

Sheet Crit 1 & 2
C3: Criteria 1 and 2
C4: Type of as-of-right siting approval received: | H4: Generation; Solar
C6: Type of expedited permitting approval received: | H6: Local
C8: REGULATIONS (zoning & permitting): 1) Since your last Annual Report, or Green Communities Designation Application (if first Annual Report) Have any significant changes been made to the zoning district(s) for which the community received Green Communities designation? Significant changes, such as changes to the geographic extent of the district, allowed uses, and dimensional requirements, would impact the ability to construct a qualifying clean energy use in the district. Overlay districts, such as water protection districts that impose special permitting requirements, count as significant changes. If yes, submit the same documentation required for designation for CR1 to verify that you still meet the requirements (applicable sections of the zoning by-law, definitions, as well as a revised zoning map.) Select YES or NO in the dropdown on the right. | L8: NO
C10: 2) Have any significant changes been made to site plan, design, or other development review criteria or any permit review procedures that would impact the ability to permit qualifying clean energy uses as-of-right and in a timely manner? Significant changes would be anything that pertains to the “by-right” nature of the zoning or to the amount of time necessary to review required permits. If yes, attach a letter from municipal counsel that describes the changes, illustrates any potential impact on the siting of clean energy projects, and affirms continued compliance with the Green Communities As-of-Right Zoning and Expedited Permitting criteria. Select YES or NO in the dropdown on the right. | L10: NO
C13: NARRATIVE: No changes were made in FY20.
C15: PERMITTING:
C16: 3) Since your last Annual Report, or Designation Application (if first Annual Report) have any clean energy projects applied for approval under the zoning for which the community received Green Community Designation? Have any clean energy project been approved for construction? | L16: NO
C17: Select YES or NO in the dropdown on the right. If YES, fill out or update Table 1 below:
C20: Table 1 Expedited Permitting Projects During Reporting Year (Please add rows as required)
C21: Click here to view a sample version of this table.
C22: PROJECT NAME | D22: Type (Generation (Capacity), R&D, and/or Manufacturing) | E22: As-of-right designated location | F22: Applicant | G22: Project Description | H22: Status | I22: Date Submitted | J22: Decision Date
C26: To insert additional rows, select this row, right-click, and select "Insert."

Sheet Crit 1 & 2 - Table 1 Sample
C3: Click here to return to Table 1
C5: Table 1: SAMPLE Expedited Permitting Projects
C6: PROJECT NAME | D6: Type (Generation (Capacity), R&D, and/or Manufacturing) | E6: As-of-right designated location | F6: Applicant | G6: Project Description | H6: Status | I6: Date Submitted | J6: Decision Date
C7: Hilltop Wind | D7: Renewable Energy (wind) 9 MW | E7: landfill | F7: Peak Performance, LLC. | G7: Six 1.5 MW wind turbines on 16 acres of land | H7: Project approved | I7: 42675 | J7: 43121

Sheet Crit 3 - Overview
C3: Criterion 3 Instructions: Complete Steps 1-7 Below
C5: 1. Read and complete all questions below.
C7: 2. Complete Table 2: Progress | F7: Go to Table 2
C8: Complete Table 2 for baseline year and reporting year, located 3 tabs to the right. ALL categories are required, with the exception of open space.
C9: Fuel use from all vehicles, including those characterized as exempt AND non-exempt under Criterion 4, must be included.
C10: Renewable Energy is a fuel source and the amount of renewable energy consumed by the Green Community must be included.
C12: If you are using MEI. note that there is a report available (entitled Annual Report Table 2). This contains the data you need to enter into Table 2 . Please review the data in MEI and, if accurate, enter it into Table 2, located 3 tabs to the right. Note also that if you click on the "years" down arrow on that MEI report, you can choose which year is your baseline year.
C14: Regional School District
C15: Does the community include energy from a Regional School District in their total energy consumption? | L15: No
C16: =IF(L15="Yes","What is the name of the Regional School District?","")
C17: =IF(L15="Yes","Does the community prorate energy use from the Regional School Disctrict based on a percentage of total energy consumption, or are only certain buildings included?","")
C18: =IF(AND(L15="Yes",L17="Percentage"),"Please enter the percentage of Regional School District Energy included.",IF(AND(L15="Yes",L17="Buildings"),"Please enter the names of the buildings included.",IF(AND(L15="Yes",L17=""),"Please respond to the question above.","")))
C20: 3. Complete Table 3: Energy Use (NON-MEI Users) | F20: Go to Table 3
C22: Does the community use MassEnergyInsight (MEI) to provide data for Table 2? | L22: Yes
C23: =IF(L22="Yes",ICF!$B$1,IF(L22="No",ICF!$B$2,"")) -> Please provide the date the information in MassEnergyInsight was last verified. By including a date, you are confirming that the information in MEI is accurate and complete (including all fuels and renewable energy) and that you wish to report your Green Community annual energy usage directly through MEI. REMEMBER to load all diesel, gasoline, heating oil and propane energy usage, as well as renewable energy usage that is NOT virtually net-metered, into MEI prior to providing a date that your data is complete. Also, confirm that Table 3 in MEI matches the data provided in Table 2. | L23: 44139
C27: 4. Complete Table 4: Energy Conservation Measures (ECMs) | G27: Go to Table 4
C28: Update your ECMs in Table 4 by: 1) listing measures that were completed since you submitted last Annual Report or Green Communities Designation as applicable, 2) listing new measures planned or in progress, 3) and providing an ECM type in Column F. All ECMs should be included in Table 4, NOT only ECMs funded by Green Communities grants.
C29: Does the community use an Energy Management Services (EMS) Agreement? | L29: No
C30: =IF(L29="Yes",ICF!$B$6,"") | L30: =IF(L29="Yes","Provide Date Below","")
C33: 5. Complete Table 5: Renewable Energy Projects | F33: Go to Table 5
C34: Update your conventionally net-metered (aka "behind the meter") RE projects in Table 5 by: 1) changing any status dates, and 2) adding any new RE projects. | E34: Does your Green Community use any energy produced by renewable energy within your community? For example, solar PV systems installed on school or municipal buildings and the building uses the electricity generated, or a biomass boiler installed in a municipal building . Please select YES or NO in the dropdown on the right. if YES, complete Table 5 and be sure to include the renewable energy consumed in the building's MassEnergyInsight account or whatever energy tracking tool your community uses | L34: YES
C36: 6. Provide a Narrative
C37: Provide a brief narrative explaining changes seen and what is anticipated for the next year. Any notes on successes or challenges are welcome. Also include changes in building operating hours as well as building use, and/or significant changes in municipal fleet operations. Identify top 3 buildings in terms of energy consumption and note how efficient these buildings are by reporting their kBtu/sf numbers. MEI users can find this information by looking at the "Buildings to Target" report; provide a brief statement addressing change in the past year and, if applicable, describe plans for improving building performance next year | E37: Sample Narrative: Our buildings have a 12 percent decrease in energy use and the vehicles have a 4 percent reduction. We are also intending to implement a large retrofit at the drinking water treatment plant this year that should yield a significant level of savings. We are seeing an uptick in energy use in our library, now that it open 10 more hours a week. Our top 3 energy-using buildings are our high school (68 EUI), middle school (88 EUI) and town hall (78 EUI). Energy use in all three buildings has been fairly consistent over the past year. The middle school boiler has reached the end of useful life and is scheduled to be replaced in 2 years. We have implemented projects in the Town Hall and would have expected larger savings. We are investigating this.
E42: NARRATIVE:
E43: The Town has made energy reductions across several categories in FY20 including buildings, streetlights, and water/sewer for a total reduction of 22.1% (or 14.7% with weather normalized data). This past year we implemented interior LED lighting projects in the schools (high school, middle school, and elementary schools). This combined with COVID-caused school closures in the spring have led to a significant reduction in energy use. However, the Town did use the opportunity of schools being closed to do deferred maintenance, so they were not completely shut down during this time. We also saw a substantial reduction of energy usage from streetlights due to an LED light retrofit completed in June 2019. The buildings with the highest energy usage per square foot include the Pfaff Center (recreation center) at 87.93 kBtu/sf, the Dale Street Elementary School at 84.39 kBtu/sf, and Medfield Highschool at 82.90 kBtu/sf. Please note that as a result of some faulty billing from Eversource, the total reduction does not show correctly in MEI: FY2020 only shows a 12.6% decrease in kwh of electricity. However, after offsetting refunds in billing, MEI does show $31,000 savings in spending in FY2020, in the range of 70% reduction annually. Energy consumption now seems correct starting April 2020: so comparing just the six months Apr-Sep, we see a 74% energy reduction between 2019 and 2020; this is likely the correct energy savings level. Medfield has completed many of the ECMs from our ERP and have a robust list of ECMs to implement over the next 5 years which we plan to get energy audits on this winter. Projects include weatherization and HVAC work in the school buildings, as well as work at the Town Hall and, Council on Aging, and Library. ECMs in Table 4 that don't have audit information are proposed measures that are in addition to the ERP.
C49: 7. Building Stock Changes
C51: Has the community had any building stock changes since it's baseline year? | L51: Yes
C52: =IF(L51="Yes","Please complete the Building Stock Change Calculator. Include all building stock changes that have occurred since the baseline in the current year.","") -> Please complete the Building Stock Change Calculator. Include all building stock changes that have occurred since the baseline in the current year.
C53: Have any building stock changes occurred since your last Annual Report or Designation (if first Annual Report)? | L53: No
C55: =IF(L53="Yes",ICF!$B$8,"") | E55: =IF(L53="Yes","NARRATIVE:","")
E56: As noted in the previous Annual Report building stock changes were done in FY2018 when the police station and fire station combined. Square foot adjustments are made in the calculator to reflect this change.

Sheet Building Stock Changes Doc 

Sheet Building Stock Change Calculato
D4: INSTRUCTIONS on how to calculate your prorated energy use for building stock changes
D5: All building stock changes that have occured since the baseline year should be reported here. Please keep track of the prorated use for every year you are reporting on. If you submitted an Annual Report last year, you only need to report on this current reporting year. If this is your community's first Annual Report, enter the building information for this reporting year and past years as needed. If your community did not submit an Annual Report last year, report on last years' building stock changes as needed.
D7: USE THIS CALCULATOR FOR ALL BUILDING STOCK CHANGES
D9: This Building Stock Changes Calculator is for both new buildings and building additions. Different information is to be entered depending on whether you are entering data for a new building or an addition, so make sure to follow the instructions in Row 11 for each column. You are only required to enter information into the yellow cells in the table. The green cells in the table will populate when the relevant information is entered into the yellow cells. The orange cells in the worksheet (columns M and P) are the numbers that will be used to adjust the Total Energy Use for the year, and will automatically populate in Table 2 Progress (the worksheet on the next tab to the right). Starting with the current reporting year, enter any new buildings and building additions that occurred. Start with Building One, if you have more than one applicable building in a given year then move on to Building Two etc. Please change the generic "BUILDING ONE" label to the actual name of the building (e.g. Senior Center, High School, Police Station).
D10: Building Stock Changes Calculator
D11: Enter the name of the building in the appropriate cell, e.g. change "BUILDING ONE" to "High School". Name should match the name in MEI. | E11: If NEW BUILDING, enter the OLD BUILDING'S sq. footage, if ADDITION, enter the building's sq. footage BEFORE the addition | F11: If NEW BUILDING, enter the NEW BUILDING'S sq. footage, if ADDITION, enter the building's sq. footage AFTER the addition | G11: THIS COLUMN WILL POPULATE % of energy to include | H11: Non Weather-Normalized energy use (MMBTU) - this can be found in MassEnergyInsight - Energy Reduction Plan Guidance Table 3 (MMBtu) | I11: If NEW BUILDING - enter the number 12. If ADDITION, enter the # of months the addition was online during the reporting yr.? | J11: Non Weather-Normalized Prorated energy use (MMBTU) - | K11: Weather-Normalized energy use (MMBTU) - This can be found in MassEnergyInsight - Annual Building Energy Use - Weather Normalized | L11: Weather Normalized Prorated energy use (MMBTU) | M11: Total Non-Weather Normalized Energy Use | N11: Total Prorated Non-Weather Normalized Energy Use | O11: Difference to be used to adjust Non-Weather-Normalized total - This will populate the apropriate cell in Table 2 - Progress | P11: Total Weather-Normalized Energy Use | Q11: Total Prorated Weather-Normalized Energy Use | R11: Difference to be used to adjust Weather-Normalized total This will populate the apropriate cell in Table 2 - Progress
D12: 2020
D13: Police | E13: 13920 | F13: 36500 | G13: =IF(E13="",0,(E13/F13)) -> 0.38136986 | H13: =3100-250 -> 2850 | I13: 12 | J13: =IF(H13="",0,((H13/12)*I13*G13)+(12-I13)*(H13/12)) -> 1086.9041 | K13: =3354.1-250 -> 3104.1 | L13: =IF(K13="",0,((K13/12)*$I13*$G13)+(12-I13)*(K13/12)) -> 1183.8102 | M13: =SUM(H13:H17) -> 2850 | N13: =SUM(J13:J17) -> 1086.9041 | P13: =SUM(K13:K17) -> 3104.1 | Q13: =SUM(L13:L17) -> 1183.8102
D14: BUILDING TWO | G14: =IF(E14="",0,(E14/F14)) -> 0 | J14: =IF(H14="",0,((H14/12)*I14*G14)+(12-I14)*(H14/12)) -> 0 | L14: =IF(K14="",0,((K14/12)*$I14*$G14)+(12-I14)*(K14/12)) -> 0
D15: BUILDING THREE | G15: =IF(E15="",0,(E15/F15)) -> 0 | J15: =IF(H15="",0,((H15/12)*I15*G15)+(12-I15)*(H15/12)) -> 0 | L15: =IF(K15="",0,((K15/12)*$I15*$G15)+(12-I15)*(K15/12)) -> 0
D16: BUILDING FOUR | G16: =IF(E16="",0,(E16/F16)) -> 0 | J16: =IF(H16="",0,((H16/12)*I16*G16)+(12-I16)*(H16/12)) -> 0 | L16: =IF(K16="",0,((K16/12)*$I16*$G16)+(12-I16)*(K16/12)) -> 0
D17: BUILDING FIVE | G17: =IF(E17="",0,(E17/F17)) -> 0 | J17: =IF(H17="",0,((H17/12)*I17*G17)+(12-I17)*(H17/12)) -> 0 | L17: =IF(K17="",0,((K17/12)*$I17*$G17)+(12-I17)*(K17/12)) -> 0 | O17: =N13-M13 -> -1763.0959 | R17: =Q13-P13 -> -1920.2898
D18: 2019
D19: Police | E19: 13920 | F19: 36500 | G19: =IF(E19="",0,(E19/F19)) -> 0.38136986 | H19: =3273-229 -> 3044 | I19: 12 | J19: =IF(H19="",0,((H19/12)*I19*G19)+(12-I19)*(H19/12)) -> 1160.8899 | K19: =3293.5-229 -> 3064.5 | L19: =IF(K19="",0,((K19/12)*$I19*$G19)+(12-I19)*(K19/12)) -> 1168.7079 | M19: =SUM(H19:H23) -> 3044 | N19: =SUM(J19:J23) -> 1160.8899 | P19: =SUM(K19:K23) -> 3064.5 | Q19: =SUM(L19:L23) -> 1168.7079
D20: BUILDING TWO | G20: =IF(E20="",0,(E20/F20)) -> 0 | J20: =IF(H20="",0,((H20/12)*I20*G20)+(12-I20)*(H20/12)) -> 0 | L20: =IF(K20="",0,((K20/12)*$I20*$G20)+(12-I20)*(K20/12)) -> 0
D21: BUILDING THREE | G21: =IF(E21="",0,(E21/F21)) -> 0 | J21: =IF(H21="",0,((H21/12)*I21*G21)+(12-I21)*(H21/12)) -> 0 | L21: =IF(K21="",0,((K21/12)*$I21*$G21)+(12-I21)*(K21/12)) -> 0
D22: BUILDING FOUR | G22: =IF(E22="",0,(E22/F22)) -> 0 | J22: =IF(H22="",0,((H22/12)*I22*G22)+(12-I22)*(H22/12)) -> 0 | L22: =IF(K22="",0,((K22/12)*$I22*$G22)+(12-I22)*(K22/12)) -> 0
D23: BUILDING FIVE | G23: =IF(E23="",0,(E23/F23)) -> 0 | J23: =IF(H23="",0,((H23/12)*I23*G23)+(12-I23)*(H23/12)) -> 0 | L23: =IF(K23="",0,((K23/12)*$I23*$G23)+(12-I23)*(K23/12)) -> 0 | O23: =N19-M19 -> -1883.1101 | R23: =Q19-P19 -> -1895.7921
D24: 2018
D25: Police | E25: 13920 | F25: 36500 | G25: =IF(E25="",0,(E25/F25)) -> 0.38136986 | H25: =3122-220 -> 2902 | I25: 12 | J25: =IF(H25="",0,((H25/12)*I25*G25)+(12-I25)*(H25/12)) -> 1106.7353 | K25: =3125.7-220 -> 2905.7 | L25: =IF(K25="",0,((K25/12)*$I25*$G25)+(12-I25)*(K25/12)) -> 1108.1464 | M25: =SUM(H25:H29) -> 2902 | N25: =SUM(J25:J29) -> 1106.7353 | P25: =SUM(K25:K29) -> 2905.7 | Q25: =SUM(L25:L29) -> 1108.1464
D26: BUILDING TWO | G26: =IF(E26="",0,(E26/F26)) -> 0 | J26: =IF(H26="",0,((H26/12)*I26*G26)+(12-I26)*(H26/12)) -> 0 | L26: =IF(K26="",0,((K26/12)*$I26*$G26)+(12-I26)*(K26/12)) -> 0
D27: BUILDING THREE | G27: =IF(E27="",0,(E27/F27)) -> 0 | J27: =IF(H27="",0,((H27/12)*I27*G27)+(12-I27)*(H27/12)) -> 0 | L27: =IF(K27="",0,((K27/12)*$I27*$G27)+(12-I27)*(K27/12)) -> 0
D28: BUILDING FOUR | G28: =IF(E28="",0,(E28/F28)) -> 0 | J28: =IF(H28="",0,((H28/12)*I28*G28)+(12-I28)*(H28/12)) -> 0 | L28: =IF(K28="",0,((K28/12)*$I28*$G28)+(12-I28)*(K28/12)) -> 0
D29: BUILDING FIVE | G29: =IF(E29="",0,(E29/F29)) -> 0 | J29: =IF(H29="",0,((H29/12)*I29*G29)+(12-I29)*(H29/12)) -> 0 | L29: =IF(K29="",0,((K29/12)*$I29*$G29)+(12-I29)*(K29/12)) -> 0 | O29: =N25-M25 -> -1795.2647 | R29: =Q25-P25 -> -1797.5536

Sheet Crit 3 - Table  2 Progress
C3: Criterion 3 Step 2: Complete Table 2 - Progress
C4: Table 2 Instructions: 1) Enter your community's baseline year (including whether it's a Fiscal Year or Calendar Year); 2) Enter total MMBtus per category (Rows 10-15) for the baseline year and the current reporting year. In MassEnergyInsight, this information is available in the "Annual Report Table 2" report; 3) If this is your community's first Annual Report, enter the energy consumption for past years as needed; 4) If your community did not submit an Annual Report last year, enter energy data for 2019 and 2020; 5) If your baseline includes a proportion of energy consumed by a regional school district, provide the pro-rated energy use in Row 18 for non weather-normalized use and Row 22 for weather-normalized use. Attach a worksheet (add a tab to this workbook) listing the buildings, their total energy use, and calculations on how you arrived at their prorated use; 6) If your community needs to pro-rate energy use due to building stock changes, use the calculator provided on the tab to the left and enter the resulting numbers in Row 17 for non weather-normalized data, and in Rows 21 for weather-normalized data.
C5: WEATHER NORMALIZED DATA - DOER is requiring Green Communities to assess their progress using weather-normalized data through a DOER-approved weather normalization methodology. Qualifying methods include use of MassEnergyInsight or Energy Star Portfolio Manager. Please contact your Regional Coordinator for assistance if you use a different energy-tracking tool. Enter weather-normalized total energy consumption in Table 2, Row 20. In MassEnergyInsight, this information is available in the "Annual Report Table 2" report
C6: Does the Community use Calendar Year (CY) or Fiscal Year (FY)? | H6: FY
C8: Table 2: Timeline of Annual Municipal Energy Use
D9: Baseline MMBtu | E9: 2018 MMBtu | F9: 2019 MMBtu | G9: 2020 MMBtu | H9: For Most Recent Year: Change vs. Baseline (%)
D10: 2015 | E10: 2018 | F10: 2019 | G10: 2020
C11: Null | H11: =IF(OR(D11="",D11=0),"Enter baseline year consumption in column D",IF(OR(G11="",G11=0),"Enter current year consumption in column G",(D11-G11)/D11)) -> Enter baseline year consumption in column D
C12: Buildings | D12: 51589 | E12: 44098 | F12: 44776 | G12: 39481 | H12: =IF(OR(D12="",D12=0),"Enter baseline year consumption in column D",IF(OR(G12="",G12=0),"Enter current year consumption in column G",(D12-G12)/D12)) -> 0.2347012
C13: Open Space | D13: 53 | E13: 96 | F13: 88 | G13: 80 | H13: =IF(OR(D13="",D13=0),"Enter baseline year consumption in column D",IF(OR(G13="",G13=0),"Enter current year consumption in column G",(D13-G13)/D13)) -> -0.50943396
C14: Street & Traffic Lights | D14: 390 | E14: 389 | F14: 389 | G14: 341 | H14: =IF(OR(D14="",D14=0),"Enter baseline year consumption in column D",IF(OR(G14="",G14=0),"Enter current year consumption in column G",(D14-G14)/D14)) -> 0.12564103
C15: Vehicles | D15: 7318 | E15: 7662 | F15: 6888 | G15: 6979 | H15: =IF(OR(D15="",D15=0),"Enter baseline year consumption in column D",IF(OR(G15="",G15=0),"Enter current year consumption in column G",(D15-G15)/D15)) -> 0.046324132
C16: Water/Sewer | D16: 7530 | E16: 7626 | F16: 7529 | G16: 6979 | H16: =IF(OR(D16="",D16=0),"Enter baseline year consumption in column D",IF(OR(G16="",G16=0),"Enter current year consumption in column G",(D16-G16)/D16)) -> 0.073173971
C17: Building Stock Change Adjustment | E17: ='Building Stock Change Calculato'!$O$29 -> -1795.2647 | F17: ='Building Stock Change Calculato'!$O$23 -> -1883.1101 | G17: ='Building Stock Change Calculato'!$O$17 -> -1763.0959
C18: Regional School Prorated
C19: TOTAL ENERGY CONSUMPTION (NO Weather Normalization) | D19: =SUM(D11:D18) -> 66880 | E19: =SUM(E11:E18) -> 58075.735 | F19: =SUM(F11:F18) -> 57786.89 | G19: =SUM(G11:G18) -> 52096.904 | H19: =IF(OR(D19="",D19=0),"Enter baseline year consumption in column D",IF(OR(G19="",G19=0),"Enter current year consumption in column G",(D19-G19)/D19)) -> 0.22103911
C20: Weather Normalized Consumption (without building stock adjustment) | D20: 63062 | E20: 60682 | F20: 61510 | G20: 55731 | H20: =IF(OR(D20="",D20=0),"Enter baseline year consumption in column D",IF(OR(G20="",G20=0),"Enter current year consumption in column G",(D20-G20)/D20)) -> 0.11625067
C21: Building Stock Change Adjustment (weather - normalized) | E21: ='Building Stock Change Calculato'!$R$29 -> -1797.5536 | F21: ='Building Stock Change Calculato'!$R$23 -> -1895.7921 | G21: ='Building Stock Change Calculato'!$R$17 -> -1920.2898
C22: Regional School Prorated (weather-normalized)
C23: TOTAL ENERGY CONSUMPTION (Weather-Normalized) | D23: =SUM(D20:D22) -> 63062 | E23: =SUM(E20:E22) -> 58884.446 | F23: =SUM(F20:F22) -> 59614.208 | G23: =SUM(G20:G22) -> 53810.71 | H23: =IF(OR(D23="",D23=0),"Enter baseline year consumption in column D",IF(OR(G23="",G23=0),"Enter current year consumption in column G",(D23-G23)/D23)) -> 0.1467015

Sheet Crit 3 -Tbl 3 for Non-MEI Users
C3: Criterion 3 Step 3: Complete Table 3 OR use MEI (NOTE: provide a separate table each for your baseline year and reporting year
C5: Select Plan Year: | D5: <Select Year>
C6: NOTE: IF USING MASSENERGYINSIGHT, there is NO need to complete this table.
C7: ="Table 3: Annual Municipal Energy Use in Native Units and MMBtu - Plan Year "&D5 -> Table 3: Annual Municipal Energy Use in Native Units and MMBtu - Plan Year <Select Year>
D8: Please enter "0" for any fuels not used
D9: Electricity | F9: Natural Gas | H9: #2 Distillate Fuel Oil | J9: Propane | L9: Gasoline | N9: Diesel | P9: Electric Renewable Energy | R9: Thermal Renewable Energy | T9: Total MMBtu
D10: kWh | E10: MMBtu | F10: Therms | G10: MMBtu | H10: Gallons | I10: MMBtu | J10: Gallons | K10: MMBtu | L10: Gallons | M10: MMBtu | N10: Gallons | O10: MMBtu | P10: kWh | Q10: MMBtu | R10: Therms | S10: MMBtu
C11: School | E11: =D11*kwh_MMBTU -> 0 | G11: =F11*therms_MMBTU -> 0 | I11: =H11*GalFuelOil_MMBTU -> 0 | K11: =J11*GalPropane_MMBTU -> 0 | M11: =L11*GalGasoline_MMBTU -> 0 | O11: =N11*GalDiesel_MMBTU -> 0 | Q11: =P11*kwh_MMBTU -> 0 | S11: =R11*therms_MMBTU -> 0 | T11: =E11+G11+I11+K11+M11+O11+Q11+S11 -> 0
C12: Town Hall | E12: =D12*kwh_MMBTU -> 0 | G12: =F12*therms_MMBTU -> 0 | I12: =H12*GalFuelOil_MMBTU -> 0 | K12: =J12*GalPropane_MMBTU -> 0 | M12: =L12*GalGasoline_MMBTU -> 0 | O12: =N12*GalDiesel_MMBTU -> 0 | Q12: =P12*kwh_MMBTU -> 0 | S12: =R12*therms_MMBTU -> 0 | T12: =E12+G12+I12+K12+M12+O12+Q12+S12 -> 0
C13: Police Station | E13: =D13*kwh_MMBTU -> 0 | G13: =F13*therms_MMBTU -> 0 | H13: 0 | I13: =H13*GalFuelOil_MMBTU -> 0 | K13: =J13*GalPropane_MMBTU -> 0 | M13: =L13*GalGasoline_MMBTU -> 0 | O13: =N13*GalDiesel_MMBTU -> 0 | Q13: =P13*kwh_MMBTU -> 0 | S13: =R13*therms_MMBTU -> 0 | T13: =E13+G13+I13+K13+M13+O13+Q13+S13 -> 0
C14: SUBTOTAL FOR BUILDINGS | D14: =SUM(D11:D13) -> 0 | E14: =SUM(E11:E13) -> 0 | F14: =SUM(F11:F13) -> 0 | G14: =SUM(G11:G13) -> 0 | H14: =SUM(H11:H13) -> 0 | I14: =SUM(I11:I13) -> 0 | J14: =SUM(J11:J13) -> 0 | K14: =SUM(K11:K13) -> 0 | ... S14: =SUM(S11:S13) -> 0 | T14: =E14+G14+I14+K14+M14+O14+Q14+S14 -> 0
C15: Drinking Water/Wastewater Treatment Plant | E15: =D15*kwh_MMBTU -> 0 | G15: =F15*therms_MMBTU -> 0 | I15: =H15*GalFuelOil_MMBTU -> 0 | K15: =J15*GalPropane_MMBTU -> 0 | M15: =L15*GalGasoline_MMBTU -> 0 | O15: =N15*GalDiesel_MMBTU -> 0 | Q15: =P15*kwh_MMBTU -> 0 | S15: =R15*therms_MMBTU -> 0 | T15: =E15+G15+I15+K15+M15+O15+Q15+S15 -> 0
C16: Pumping in Aggregate | E16: =D16*kwh_MMBTU -> 0 | G16: =F16*therms_MMBTU -> 0 | I16: =H16*GalFuelOil_MMBTU -> 0 | K16: =J16*GalPropane_MMBTU -> 0 | M16: =L16*GalGasoline_MMBTU -> 0 | O16: =N16*GalDiesel_MMBTU -> 0 | Q16: =P16*kwh_MMBTU -> 0 | S16: =R16*therms_MMBTU -> 0 | T16: =E16+G16+I16+K16+M16+O16+Q16+S16 -> 0
C17: Open Space* | E17: =D17*kwh_MMBTU -> 0 | G17: =F17*therms_MMBTU -> 0 | I17: =H17*GalFuelOil_MMBTU -> 0 | K17: =J17*GalPropane_MMBTU -> 0 | M17: =L17*GalGasoline_MMBTU -> 0 | O17: =N17*GalDiesel_MMBTU -> 0 | Q17: =P17*kwh_MMBTU -> 0 | S17: =R17*therms_MMBTU -> 0 | T17: =E17+G17+I17+K17+M17+O17+Q17+S17 -> 0
C18: Vehicles in Aggregate | E18: =D18*kwh_MMBTU -> 0 | G18: =F18*therms_MMBTU -> 0 | I18: =H18*GalFuelOil_MMBTU -> 0 | J18: 0 | K18: =J18*GalPropane_MMBTU -> 0 | M18: =L18*GalGasoline_MMBTU -> 0 | O18: =N18*GalDiesel_MMBTU -> 0 | Q18: =P18*kwh_MMBTU -> 0 | S18: =R18*therms_MMBTU -> 0 | T18: =E18+G18+I18+K18+M18+O18+Q18+S18 -> 0
C19: Street and Traffic Lights in Aggregate | E19: =D19*kwh_MMBTU -> 0 | G19: =F19*therms_MMBTU -> 0 | I19: =H19*GalFuelOil_MMBTU -> 0 | K19: =J19*GalPropane_MMBTU -> 0 | M19: =L19*GalGasoline_MMBTU -> 0 | O19: =N19*GalDiesel_MMBTU -> 0 | Q19: =P19*kwh_MMBTU -> 0 | S19: =R19*therms_MMBTU -> 0 | T19: =E19+G19+I19+K19+M19+O19+Q19+S19 -> 0
C20: TOTAL ENERGY CONSUMPTION | D20: =SUM(D14:D19) -> 0 | E20: =D20*0.003412 -> 0 | F20: =SUM(F14:F19) -> 0 | G20: =F20*0.1 -> 0 | H20: =SUM(H14:H19) -> 0 | I20: =H20*0.139 -> 0 | J20: =SUM(J14:J19) -> 0 | K20: =J20*0.091 -> 0 | L20: =SUM(L14:L19) -> 0 | M20: =L20*0.124 -> 0 | N20: =SUM(N14:N19) -> 0 | O20: =N20*0.139 -> 0 | P20: =SUM(P14:P19) -> 0 | Q20: =P20*0.003412 -> 0 | R20: =SUM(R14:R19) -> 0 | S20: =R20*0.1 -> 0 | T20: =E20+G20+I20+K20+M20+O20+Q20+S20 -> 0

Sheet Crit 3 - ECMs
D3: For use in next Table 4 - ECMs
C4: Project Type | D4: Definition/Includes:
C6: Behav & Training | D6: Behavioral programs, building operator training, etc.
C7: Building Control | D7: HVAC controls, energy management systems (NO vending misers)
C8: Exterior Lighting | D8: Streetlights, traffic lights, parking lots/garages, exterior lighting
C9: Interior Lighting | D9: Interior lighting & controls
C10: Fuel Conversion | D10: Conversion from one heating fuel type to another (often oil to natural gas)
C11: Hot Water | D11: Hot water heaters, pipe insulation, showerheads, faucet aerators, efficient dish washers
C12: HVAC | D12: Heating or cooling equipment, economizers, destratification fans, dehumidifiers, duct sealing or insulation (NO VFDs)
C13: Pump/Motor/Drive | D13: Pumps, motors, variable frequency/speed drives
C14: Refrigeration | D14: Refrigeration and controls, including vending misers
C15: Retrocommission | D15: Retrocommissioning and submetering projects
C16: Vehicles | D16: Energy-savings vehicles & their operations: GPS, anti-idling retrofits, routing software, big belly trash collectors, hybrid or EV purchases
... C25: Abandoned | D25: Project is not completed and will no longer be pursued.

Sheet Crit 3 - Table 4 ECMs
D3: Criterion 3 Step 4: Update Table 4 - ECMs
C4: Update projects that were listed as "planned" or "active" in last Annual Report or Energy Reduction Plan and add new projects. Include all ECMs, not only ECMs funded by Green Communities grants.
D5: Click here to view a sample version of this table | G5: Table 4 Energy Conservation Measures Data
C6: ECMs - Update projects that were listed as "planned" or "active" in last Annual Report or Energy Reduction Plan and add new projects. | G6: Status | I6: Energy Data | O6: Financial Data | T6: Reference Data
C7: Category (select one from drop-down) | D7: Building/Site Name | E7: Energy Conservation Measure Name | F7: ECM Type (select one from drop-down) | G7: Status (select one from drop-down) | H7: Status Date (Month -year completed or planned) | I7: Projected Annual Electricity Savings (kWh) | J7: Projected Annual Natural Gas Savings (therms) | K7: Projected Annual Oil Savings (gallons) | L7: Projected Annual Propane Savings (gallons) | M7: Projected Annual Gasoline Savings (gallons) | N7: Projected Annual Diesel Savings (gallons) | O7: Projected Annual Cost Savings ($) | P7: Total Installed Cost ($) | Q7: Green Community Grant ($) | R7: Utility Incentives ($) | S7: Net Cost ($) | T7: Funding Source(s) for Net Costs | U7: Source for Projected Savings
C8: Buildings | D8: Pfaff Recreation Center | E8: Lighting | F8: Exterior Lighting | G8: Active | H8: Winter 2020 | I8: 12486 | O8: 2060 | P8: 7050 | R8: 7050 | S8: 0 | T8: No cost to Town of Medfield | U8: Commonwealth Electrical Technologies
C9: Buildings | D9: Blake Middle School | E9: Exterior LED | F9: Exterior Lighting | G9: Complete | H9: 43228 | I9: 67180 | O9: 11085 | P9: 34133 | Q9: 18287 | R9: 15846 | S9: 0 | T9: Green Communities Grant | U9: Doer qurt report 1 may-jun 4th qut.docx
C10: Buildings | D10: Blake Middle School | E10: All interior lighting (oringally only 200 Side Lighting) | F10: Interior Lighting | G10: Complete | H10: 43791 | I10: 107394 | O10: 17720 | P10: 40700 | R10: 40700 | S10: 0 | T10: No cost to Town of Medfield | U10: Commonwealth Electrical Technologies
C11: Buildings | D11: Blake Middle School | E11: 100-300 Side Lighting (consolidated with 200 Side lighting line item) | F11: Interior Lighting | G11: Complete | H11: 43791 | O11: 0 | P11: 0 | R11: 0 | S11: 0 | T11: No cost to Town of Medfield | U11: Commonwealth Electrical Technologies
C12: Buildings | D12: Blake Middle School | E12: EMS | F12: Retrocommission | G12: Complete | H12: Spring 2018 | I12: 2008 | J12: 2754 | O12: 3521 | P12: 25000 | Q12: 77956 | R12: 3546 | S12: 21454 | T12: Green Communities Grant | U12: Doer qurt report 1 may-jun 4th qut.docx
C13: Buildings | D13: Council on Aging | E13: *COA parking Lights (presumed complete) | F13: Exterior Lighting | G13: Complete | H13: Fall 2016 | I13: 4508 | O13: 676 | P13: 3000 | R13: 1127 | S13: 1873 | T13: Town Budget | U13: Town of Medfield
C14: Buildings | D14: Council on Aging | E14: *Interior Lighting (presumed complete) | F14: Interior Lighting | G14: Complete | H14: Fall 2016 | I14: 16750 | O14: 2512 | P14: 34570 | R14: 4187 | S14: 30383 | T14: Town Budget | U14: AECOM (Appendix B1)
C15: Buildings | D15: Dale Street Elementary School | E15: All interior lighting (oringally only First Floor Lighting) | F15: Interior Lighting | G15: Complete | H15: 43791 | I15: 57416 | O15: 9474 | P15: 21688 | R15: 21688 | S15: 0 | T15: No cost to Town of Medfield | U15: Commonwealth Electrical Technologies
C16: Buildings | D16: Dale Street Elementary School | E16: 2nd Floor Lighting (combined with 1st floor lighting line item) | F16: Interior Lighting | G16: Complete | H16: 43791 | O16: 0 | P16: 0 | R16: 0 | S16: 0 | T16: No cost to Town of Medfield | U16: Commonwealth Electrical Technologies
C17: Buildings | D17: Medfield High School | E17: Exterior LED | F17: Exterior Lighting | G17: Complete | H17: 43228 | I17: 93868 | O17: 15488 | P17: 46628 | Q17: 24484 | R17: 22144 | S17: 0 | T17: Green Communities Grant | U17: Doer qurt report 1 may-jun 4th qut.docx
C18: Buildings | D18: Medfield High School | E18: All interior lighting (oringally only First Floor Lighting) | F18: Interior Lighting | G18: Complete | H18: 43791 | I18: 242014 | O18: 39932 | P18: 88334 | R18: 88334 | S18: 0 | T18: No cost to Town of Medfield | U18: Commonwealth Electrical Technologies
C19: Buildings | D19: Medfield High School | E19: 2nd Flr & LL Lighting (consolidate with 1st floor lighting line item) | F19: Interior Lighting | G19: Complete | H19: 43791 | O19: 0 | P19: 0 | R19: 0 | S19: 0 | T19: No cost to Town of Medfield | U19: Commonwealth Electrical Technologies
C20: Buildings | D20: Medfield Public Library | E20: MPL Exterior Lighting | F20: Exterior Lighting | G20: Complete | H20: 43228 | I20: 5510 | O20: 827 | P20: 9287 | Q20: 1173 | R20: 5886 | S20: 2229 | T20: Green Communities Grant | U20: Doer qurt report 1 may-jun 4th qut.docx
C21: Buildings | D21: Medfield Public Library | E21: *MPL Lighting (presumed complete) | F21: Interior Lighting | G21: Complete | H21: Summer 2020 | I21: 16305 | O21: 2446 | P21: 350 | S21: 350 | T21: Town Budget | U21: Town of Medfield (Appendix C1)
C22: Buildings | D22: Memorial Elementary School | E22: Exterior LED | F22: Exterior Lighting | G22: Complete | H22: 43228 | I22: 53134 | O22: 8767 | P22: 29210 | Q22: 16620 | R22: 12590 | S22: 0 | T22: Green Communities Grant | U22: Doer qurt report 1 may-jun 4th qut.docx
C23: Buildings | D23: Memorial Elementary School | E23: All interior lighting (oringally only Wings 1 & 2 Lighting) | F23: Interior Lighting | G23: Complete | H23: 43791 | I23: 70937 | O23: 11705 | P23: 28100 | R23: 28100 | S23: 0 | T23: No cost to Town of Medfield | U23: Commonwealth Electrical Technologies
C24: Buildings | D24: Memorial Elementary School | E24: Wing 3 Lighting (consolidated with Wing 1/2 line item) | F24: Interior Lighting | G24: Complete | H24: 43791 | O24: 0 | P24: 0 | R24: 0 | S24: 0 | T24: No cost to Town of Medfield | U24: Commonwealth Electrical Technologies
C25: Street & Traffic Lights | D25: Streetlights | E25: Exterior LED | F25: Exterior Lighting | G25: Complete | H25: 43617 | I25: 69435 | O25: 31870 | P25: 81505 | R25: 11182 | S25: 70323 | T25: Green Communities Grant | U25: Fred Davis Corporation (Appendix E1)/ Project Estimate 032217
C26: Buildings | D26: Town Garage | E26: *Garage Controls (presumed complete) | F26: Building Control | G26: Complete | H26: Fall 2016 | J26: 33200 | O26: 29880 | P26: 0 | R26: 0 | S26: 0 | T26: Town Budget | U26: Town of Medfield
C27: Buildings | D27: Town Hall | E27: TH Parking Lights | F27: Exterior Lighting | G27: Complete | H27: 43228 | I27: 15972 | O27: 1916 | P27: 3812 | Q27: 1677 | R27: 2135 | S27: 0 | T27: Green Communities Grant | U27: Doer qurt report 1 may-jun 4th qut.docx
C28: Buildings | D28: Town Hall | E28: Interior Lighting | F28: Interior Lighting | G28: Complete | H28: Spring 2020 | I28: 31869 | O28: 5258 | P28: 15000 | R28: 15000 | S28: 0 | T28: No cost to Town of Medfield | U28: Commonwealth Electrical Technologies
C29: Buildings | D29: Wheelock Elementary School | E29: Exterior LED | F29: Exterior Lighting | G29: Complete | H29: 43228 | I29: 5366 | O29: 885 | P29: 7445 | Q29: 6041 | R29: 1404 | S29: 0 | T29: Green Communities Grant | U29: Doer qurt report 1 may-jun 4th qut.docx
C30: Buildings | D30: Wheelock Elementary School | E30: All interior lighting (oringally only First Floor Lighting) | F30: Interior Lighting | G30: Complete | H30: 43791 | I30: 65074 | O30: 10737 | P30: 63000 | R30: 63000 | S30: 0 | T30: No cost to Town of Medfield | U30: Commonwealth Electrical Technologies
C31: Buildings | D31: Wheelock Elementary School | E31: 2nd Floor Lighting (combined with 1st floor lighting line item) | F31: Interior Lighting | G31: Complete | H31: 43791 | O31: 0 | P31: 0 | R31: 0 | S31: 0 | T31: No cost to Town of Medfield | U31: Commonwealth Electrical Technologies
C32: Buildings | D32: Wheelock Elementary School | E32: New Boilers (2) | F32: HVAC | G32: Complete | H32: Summer 2016 | J32: 4836 | O32: 4352 | P32: End-of-life replacement | R32: School Building Authority Grant | S32: End-of-life replacement | T32: Town Budget | U32: Town of Medfield
C33: Buildings | D33: Town Garage | E33: Interior Lighting | F33: Interior Lighting | G33: Complete | H33: Spring 2020 | I33: 49788 | O33: 8215 | P33: 22500 | R33: 22500 | S33: 0 | T33: No cost to Town of Medfield | U33: Commonwealth Electrical Technologies
C34: Buildings | D34: Medfield Public Library | E34: Interior Lighting | F34: Interior Lighting | G34: Comptete | H34: Spring 2020 | I34: 41298 | O34: 6195 | P34: 90695 | R34: 10325 | S34: 80370 | T34: Green Communities Grant | U34: AECOM (Appendix B2)
C35: Buildings | D35: Blake Middle School | E35: Behavioral Based Measures | F35: Behavioral and Training | G35: Planned | H35: Fall 2021 | I35: 32757 | O35: 3931 | P35: 1000 | R35: Pay-for-Performance | S35: 1000 | T35: Green Communities Grant | U35: MAPC (Appendix D1)
C36: Buildings | D36: Blake Middle School | E36: Roof Top Units Repair | F36: HVAC | G36: Planned | H36: FY2021 | P36: 40,00
C37: Buildings | D37: Blake Middle School | E37: Replace Shut Off Valves | F37: Hot Water | G37: Planned | H37: FY2021 | P37: 20000
C38: Buildings | D38: Blake Middle School | E38: Replace HW heater | F38: HVAC | G38: Planned | H38: FY2022 | P38: 200000
C39: Buildings | D39: Blake Middle School | E39: Replace Shut Off Valves | F39: Hot Water | G39: Planned | H39: FY2022 | P39: 15000
C40: Buildings | D40: Blake Middle School | E40: Gym HVAC/Fan Coil Unit Replace,ent | F40: HVAC | G40: Planned | H40: FY2022 | P40: 40000
C41: Buildings | D41: Blake Middle School | E41: Replace windows at curtain wall café | F41: Weatherization | G41: Planned | H41: FY2022 | P41: 30000
C42: Buildings | D42: Blake Middle School | E42: Replace sealants at Windows/Doors | F42: Weatherization | G42: Planned | H42: FY2024 | P42: 200000
...

Sheet Crit 3 - Tbl 4 ECMs SAMPLE Data
C3: SAMPLE Criterion 3 Step 4: Complete Table 4 - ECMs
C4: Click here to return to Table 4 | G4: Table 4 SAMPLE Energy Conservation Measures Data
C5: ECMs | G5: Status | I5: Energy Data | O5: Financial Data | T5: Reference Data
C6: Category | D6: Building/Site Name | E6: Energy Conservation Measure Name | F6: ECM Type (select one from drop-down) | G6: Status (select one from drop-down) | H6: Status Date (Month -year completed or planned) | I6: Projected Annual Electricity Savings (kWh) | J6: Projected Annual Natural Gas Savings (therms) | K6: Projected Annual Oil Savings (gallons) | L6: Projected Annual Propane Savings (gallons) | M6: Projected Annual Gasoline Savings (gallons) | N6: Projected Annual Diesel Savings (gallons) | O6: Projected Annual Cost Savings ($) | P6: Total Installed Cost ($) | Q6: Green Community Grant ($) | R6: Utility Incentives ($) | S6: Net Cost ($) | T6: Funding Source(s) for Net Costs | U6: Source for Projected Savings
C7: Buildings | D7: Green School | E7: Lighting Retrofit | F7: Interior Lighting | G7: Complete | H7: 43862 | I7: 95252 | J7: 0 | K7: 0 | L7: 0 | M7: 0 | N7: 0 | O7: 8000 | P7: 25000 | Q7: 0 | R7: 12500 | S7: 12500 | T7: Town Capital Plan FY2011 | U7: http://www.energystar.gov/ia/business/downloads/BP_Checklist.pdf
C8: Buildings | D8: Town Hall | E8: Air Sealing | F8: Weatherization | G8: Active | H8: 44166 | I8: 0 | J8: 230 | K8: 0 | L8: 0 | M8: 0 | N8: 0 | O8: 1100 | P8: 3500 | Q8: 1750 | R8: 1750 | S8: 0 | T8: N/A | U8: A-Z Energy Audit, 2008
C9: Buildings | D9: Town Hall | E9: New Boiler | F9: HVAC | G9: Planned | H9: 44866 | I9: 0 | J9: 17122 | K9: 0 | L9: 0 | M9: 0 | N9: 0 | O9: 5000 | P9: 50000 | Q9: 35000 | R9: 15000 | S9: 0 | T9: N/A | U9: Boilers-to-Go Quote, 2009
C10: Street Lights | E10: LED Conversion | F10: Exterior Lighting | G10: Active | H10: 44197 | I10: 6000 | J10: 0 | K10: 0 | L10: 0 | M10: 0 | N10: 0 | O10: 2500 | P10: 5000 | Q10: 0 | R10: 2500 | S10: 2500 | T10: Town Operating Budget FY2011 | U10: LED Signals Today Quote, 2009
C11: Buildings | D11: Drinking Water Treatment Plant | E11: 2 Variable Speed Drives | F11: Pump/Motor/Drive | G11: Complete | H11: 43891 | I11: 500000 | J11: 0 | K11: 0 | L11: 0 | M11: 0 | N11: 0 | O11: 40000 | P11: 200000 | Q11: 0 | R11: 100000 | S11: 100000 | T11: Town Bond FY2016 | U11: Energy Masters Technical Study, 2010
C12: Vehicles | E12: Anti-idling retrofit for 2 police cruisers | F12: Vehicles | G12: Planned | H12: 44044 | I12: 0 | J12: 0 | K12: 400 | L12: 400 | M12: 400 | N12: 400 | O12: 4500 | P12: 6000 | Q12: 0 | R12: 0 | S12: 6000 | T12: Town Operating Budget FY2018 | U12: green.autoblog.com
C13: TOTAL Projected Savings | I13: =SUM(I7:I12) -> 601252 | J13: =SUM(J7:J12) -> 17352 | K13: =SUM(K7:K12) -> 400 | L13: =SUM(L7:L12) -> 400 | M13: =SUM(M7:M12) -> 400 | N13: =SUM(N7:N12) -> 400 | O13: =SUM(O7:O12) -> 61100 | P13: =SUM(P7:P12) -> 289500 | ... S13: =SUM(S7:S12) -> 121000
C14: TOTAL MMBtu SAVINGS | G14: =SUM(I14:N14) -> 4661.7998 | I14: =I13*0.003412 -> 2051.4718 | J14: =J13*0.139 -> 2411.928 | K14: =K13*0.124 -> 49.6 | L14: =L13*0.124 -> 49.6 | M14: =M13*0.124 -> 49.6 | N14: =N13*0.124 -> 49.6

Sheet RE Guidance
C2: GUIDANCE FOR REPORTING RENEWABLE ENERGY GENERATION AS ENERGY CONSUMPTION
